BEGIN:VCALENDAR
VERSION:2.0
PRODID:-//Greater Manchester West Scouts - ECPv6.15.20//NONSGML v1.0//EN
CALSCALE:GREGORIAN
METHOD:PUBLISH
X-WR-CALNAME:Greater Manchester West Scouts
X-ORIGINAL-URL:https://gmwscouts.org.uk
X-WR-CALDESC:Events for Greater Manchester West Scouts
REFRESH-INTERVAL;VALUE=DURATION:PT1H
X-Robots-Tag:noindex
X-PUBLISHED-TTL:PT1H
BEGIN:VTIMEZONE
TZID:UTC
BEGIN:STANDARD
TZOFFSETFROM:+0000
TZOFFSETTO:+0000
TZNAME:UTC
DTSTART:20250101T000000
END:STANDARD
END:VTIMEZONE
BEGIN:VEVENT
DTSTART;VALUE=DATE:20260328
DTEND;VALUE=DATE:20260329
DTSTAMP:20260422T163223
CREATED:20260101T153309Z
LAST-MODIFIED:20260324T141624Z
UID:1533-1774656000-1774742399@gmwscouts.org.uk
SUMMARY:Group Lead Volunteer Support Day - POSTPONED
DESCRIPTION:This event has been postponed until further notice.
URL:https://gmwscouts.org.uk/event/glvsupportday2026/
LOCATION:TBC
ATTACH;FMTTYPE=image/png:https://gmwscouts.org.uk/wp-content/uploads/2026/01/Website-Images-1.png
ORGANIZER;CN="County Office":MAILTO:county.office@gmwscouts.org.uk
END:VEVENT
END:VCALENDAR