BEGIN:VCALENDAR
VERSION:2.0
PRODID:-//Greater Manchester West Scouts - ECPv6.15.20//NONSGML v1.0//EN
CALSCALE:GREGORIAN
METHOD:PUBLISH
X-ORIGINAL-URL:https://gmwscouts.org.uk
X-WR-CALDESC:Events for Greater Manchester West Scouts
REFRESH-INTERVAL;VALUE=DURATION:PT1H
X-Robots-Tag:noindex
X-PUBLISHED-TTL:PT1H
BEGIN:VTIMEZONE
TZID:UTC
BEGIN:STANDARD
TZOFFSETFROM:+0000
TZOFFSETTO:+0000
TZNAME:UTC
DTSTART:20250101T000000
END:STANDARD
END:VTIMEZONE
BEGIN:VEVENT
DTSTART;VALUE=DATE:20260516
DTEND;VALUE=DATE:20260517
DTSTAMP:20260422T163705
CREATED:20251111T235056Z
LAST-MODIFIED:20260101T154644Z
UID:1369-1778889600-1778975999@gmwscouts.org.uk
SUMMARY:Beaver and Cub Adventure Challenge Badge Day
DESCRIPTION:More information to follow.
URL:https://gmwscouts.org.uk/event/beavercubchallengebadge2026/
LOCATION:TBC
CATEGORIES:Programme
ATTACH;FMTTYPE=image/png:https://gmwscouts.org.uk/wp-content/uploads/2025/11/Website-Images-21.png
END:VEVENT
END:VCALENDAR