BEGIN:VCALENDAR
VERSION:2.0
PRODID:-//Greater Manchester West Scouts - ECPv6.15.20//NONSGML v1.0//EN
CALSCALE:GREGORIAN
METHOD:PUBLISH
X-WR-CALNAME:Greater Manchester West Scouts
X-ORIGINAL-URL:https://gmwscouts.org.uk
X-WR-CALDESC:Events for Greater Manchester West Scouts
REFRESH-INTERVAL;VALUE=DURATION:PT1H
X-Robots-Tag:noindex
X-PUBLISHED-TTL:PT1H
BEGIN:VTIMEZONE
TZID:UTC
BEGIN:STANDARD
TZOFFSETFROM:+0000
TZOFFSETTO:+0000
TZNAME:UTC
DTSTART:20250101T000000
END:STANDARD
END:VTIMEZONE
BEGIN:VEVENT
DTSTART;VALUE=DATE:20260919
DTEND;VALUE=DATE:20260920
DTSTAMP:20260422T214430
CREATED:20250914T120105Z
LAST-MODIFIED:20260420T174112Z
UID:1206-1789776000-1789862399@gmwscouts.org.uk
SUMMARY:BST Adventure 2026
DESCRIPTION:BST Adventure is back! This is our County Hiking Competition for Cubs\, Scouts and Explorers! \nBecome a BST Marshall! BST are looking for the following roles to help with the delivery of the event; Control team\, Sweep Team Member\, Checkpoint Marshalls & Start/ Finish Team – to register your interest\, please click here \nTeam registration for Cubs\, Scouts & Explorers will open in June. For more information about this event please click here.
URL:https://gmwscouts.org.uk/event/bst2026/
LOCATION:Rivington Barn\, Hall Lane\, Bolton\, Greater Manchester\, BL6 7SB\, United Kingdom
CATEGORIES:Programme
ATTACH;FMTTYPE=image/png:https://gmwscouts.org.uk/wp-content/uploads/2025/04/Website-Images-5.png
ORGANIZER;CN="BST Adventure Team":MAILTO:bst.adventure@gmwscouts.org.uk
END:VEVENT
END:VCALENDAR