BEGIN:VCALENDAR
VERSION:2.0
PRODID:-//Greater Manchester West Scouts - ECPv6.15.20//NONSGML v1.0//EN
CALSCALE:GREGORIAN
METHOD:PUBLISH
X-WR-CALNAME:Greater Manchester West Scouts
X-ORIGINAL-URL:https://gmwscouts.org.uk
X-WR-CALDESC:Events for Greater Manchester West Scouts
REFRESH-INTERVAL;VALUE=DURATION:PT1H
X-Robots-Tag:noindex
X-PUBLISHED-TTL:PT1H
BEGIN:VTIMEZONE
TZID:UTC
BEGIN:STANDARD
TZOFFSETFROM:+0000
TZOFFSETTO:+0000
TZNAME:UTC
DTSTART:20250101T000000
END:STANDARD
END:VTIMEZONE
BEGIN:VEVENT
DTSTART;VALUE=DATE:20260926
DTEND;VALUE=DATE:20260927
DTSTAMP:20260422T213946
CREATED:20260101T152128Z
LAST-MODIFIED:20260421T105348Z
UID:1528-1790380800-1790467199@gmwscouts.org.uk
SUMMARY:Big Birthday Day Out
DESCRIPTION:BeWILDerwood – More details to come. \n  \n 
URL:https://gmwscouts.org.uk/event/bigbirthdaydayout/
LOCATION:Private: BeWILDerwood\, BeWILDerwood\, Cheshire\, SY13 4JF
CATEGORIES:Programme
ATTACH;FMTTYPE=image/png:https://gmwscouts.org.uk/wp-content/uploads/2026/01/big-birthday-day-out-1.png
END:VEVENT
END:VCALENDAR