BEGIN:VCALENDAR
VERSION:2.0
PRODID:-//Greater Manchester West Scouts - ECPv6.15.20//NONSGML v1.0//EN
CALSCALE:GREGORIAN
METHOD:PUBLISH
X-WR-CALNAME:Greater Manchester West Scouts
X-ORIGINAL-URL:https://gmwscouts.org.uk
X-WR-CALDESC:Events for Greater Manchester West Scouts
REFRESH-INTERVAL;VALUE=DURATION:PT1H
X-Robots-Tag:noindex
X-PUBLISHED-TTL:PT1H
BEGIN:VTIMEZONE
TZID:UTC
BEGIN:STANDARD
TZOFFSETFROM:+0000
TZOFFSETTO:+0000
TZNAME:UTC
DTSTART:20250101T000000
END:STANDARD
END:VTIMEZONE
BEGIN:VEVENT
DTSTART;VALUE=DATE:20261114
DTEND;VALUE=DATE:20261115
DTSTAMP:20260423T024609
CREATED:20251111T235132Z
LAST-MODIFIED:20251111T235551Z
UID:1372-1794614400-1794700799@gmwscouts.org.uk
SUMMARY:Scout Patrol Leader Training Day
DESCRIPTION:More information to follow.
URL:https://gmwscouts.org.uk/event/scout-patrol-leader-training-day/
LOCATION:5th Urmston Scout Group HQ\, Eeasbrook\, Urmston\, Greater Manchester\, M41 9JA\, United Kingdom
CATEGORIES:Programme
ATTACH;FMTTYPE=image/png:https://gmwscouts.org.uk/wp-content/uploads/2025/11/Website-Images-22.png
ORGANIZER;CN="County Office":MAILTO:county.office@gmwscouts.org.uk
END:VEVENT
END:VCALENDAR