BEGIN:VCALENDAR
VERSION:2.0
PRODID:-//Greater Manchester West Scouts - ECPv6.15.20//NONSGML v1.0//EN
CALSCALE:GREGORIAN
METHOD:PUBLISH
X-ORIGINAL-URL:https://gmwscouts.org.uk
X-WR-CALDESC:Events for Greater Manchester West Scouts
REFRESH-INTERVAL;VALUE=DURATION:PT1H
X-Robots-Tag:noindex
X-PUBLISHED-TTL:PT1H
BEGIN:VTIMEZONE
TZID:UTC
BEGIN:STANDARD
TZOFFSETFROM:+0000
TZOFFSETTO:+0000
TZNAME:UTC
DTSTART:20240101T000000
END:STANDARD
END:VTIMEZONE
BEGIN:VEVENT
DTSTART;TZID=UTC:20250927T093000
DTEND;TZID=UTC:20250928T163000
DTSTAMP:20260421T202259
CREATED:20250811T222450Z
LAST-MODIFIED:20250811T222540Z
UID:1039-1758965400-1759077000@gmwscouts.org.uk
SUMMARY:Skills for Residential Experiences - Campsite (Nights Away Course)
DESCRIPTION:This learning opportunity gives volunteers the knowledge they need to go away and complete their Nights Away Permit. The course covers the administration related to nights away and the practical elements of running a nights away experience. This course is perfect for those wanting to undertake their Campsite Nights Away Permit\, or someone wanting to do an Indoor Nights Away Permit but brush up on some practical skills too. \nThe course runs from 9.30am to 4.30pm on both days. We will provide the resources and equipment required to complete this learning opportunity. There is the option to stay over\, please find below more information about accommodation or you can travel both days from home. \nPlease bring a packed lunch with you and a reusable hot drinks cup and water bottle. We will provide tea\, coffee and biscuits throughout the day and there is plenty of water on tap. A large amount of the course will be outdoors\, so please dress appropriately. \nThere are limited spaces available on this workshop. Please book your space now to avoid missing out. \nHere are some useful links relating to this learning opportunity: \n\nThe Nights Away Permit Scheme\n\nFor volunteers completing learning over both days during this weekend\, accommodation is available (indoor or camping\, depending on availability). We can provide you with an evening meal on the Saturday\, and breakfast and lunch on the Sunday if you are staying over. Please bring a packed lunch for the Saturday. If you would like accommodation/catering\, please contact us after you have booked your space on the workshop by emailing\, county.office@gmwscouts.org.uk. Please include in the email\, your full name and any dietary requirements.
URL:https://gmwscouts.org.uk/event/residentialskillscampsitesept2025/
LOCATION:Bispham Hall Scout Estate\, Crank Road\, Wigan\, Greater Manchester\, WN5 7DT\, United Kingdom
CATEGORIES:Volunteer Learning
ATTACH;FMTTYPE=image/png:https://gmwscouts.org.uk/wp-content/uploads/2025/08/Website-Images-16.png
ORGANIZER;CN="County Office":MAILTO:county.office@gmwscouts.org.uk
END:VEVENT
BEGIN:VEVENT
DTSTART;TZID=UTC:20250928T093000
DTEND;TZID=UTC:20250928T163000
DTSTAMP:20260421T202259
CREATED:20250511T210216Z
LAST-MODIFIED:20250815T112451Z
UID:847-1759051800-1759077000@gmwscouts.org.uk
SUMMARY:First Response
DESCRIPTION:This learning opportunity is The Scouts First Response course which covers all the required content to validate your First Response module in My Learning.  \nThe course runs from 9.30am to 4.30pm and will include a mixture of practical activities and discussion. We will provide the resources and equipment required to complete this learning opportunity. We will also validate your module on My Learning after completion. \nPlease bring a packed lunch with you and a reusable hot drinks cup and water bottle. We will provide tea\, coffee and biscuits throughout the day and there is plenty of water on tap. \nThere are limited spaces available on this First Response course. Please book your space now to avoid missing out.  \nFAQs \n\nNot sure if you need to complete this learning? This learning needs to be completed by all Section Team volunteers\, Group Lead Volunteers\, and 14-24 Team Leaders. For more information about First Response and other Growing Roots learning for your role\, please click here.\nDoes this learning need to be renewed? Yes\, if your role requires the learning you must complete the course every three years.
URL:https://gmwscouts.org.uk/event/firstresponse-28092025/
LOCATION:Bispham Hall Scout Estate\, Crank Road\, Wigan\, Greater Manchester\, WN5 7DT\, United Kingdom
CATEGORIES:Volunteer Learning
ATTACH;FMTTYPE=image/png:https://gmwscouts.org.uk/wp-content/uploads/2025/05/Website-Images-11.png
ORGANIZER;CN="County Office":MAILTO:county.office@gmwscouts.org.uk
END:VEVENT
END:VCALENDAR