BEGIN:VCALENDAR
VERSION:2.0
PRODID:-//Greater Manchester West Scouts - ECPv6.15.20//NONSGML v1.0//EN
CALSCALE:GREGORIAN
METHOD:PUBLISH
X-ORIGINAL-URL:https://gmwscouts.org.uk
X-WR-CALDESC:Events for Greater Manchester West Scouts
REFRESH-INTERVAL;VALUE=DURATION:PT1H
X-Robots-Tag:noindex
X-PUBLISHED-TTL:PT1H
BEGIN:VTIMEZONE
TZID:UTC
BEGIN:STANDARD
TZOFFSETFROM:+0000
TZOFFSETTO:+0000
TZNAME:UTC
DTSTART:20250101T000000
END:STANDARD
END:VTIMEZONE
BEGIN:VEVENT
DTSTART;VALUE=DATE:20261017
DTEND;VALUE=DATE:20261020
DTSTAMP:20260419T162347
CREATED:20250928T122138Z
LAST-MODIFIED:20250928T122146Z
UID:1255-1792195200-1792454399@gmwscouts.org.uk
SUMMARY:Volunteer Learning Opportunities
DESCRIPTION:More information to follow.
URL:https://gmwscouts.org.uk/event/volunteerlearning-oct2026/
LOCATION:Bispham Hall Scout Estate\, Crank Road\, Wigan\, Greater Manchester\, WN5 7DT\, United Kingdom
CATEGORIES:Volunteer Learning
ATTACH;FMTTYPE=image/png:https://gmwscouts.org.uk/wp-content/uploads/2025/09/Website-Images-3.png
ORGANIZER;CN="County Office":MAILTO:county.office@gmwscouts.org.uk
END:VEVENT
END:VCALENDAR