BEGIN:VCALENDAR
VERSION:2.0
PRODID:-//Greater Manchester West Scouts - ECPv6.15.20//NONSGML v1.0//EN
CALSCALE:GREGORIAN
METHOD:PUBLISH
X-ORIGINAL-URL:https://gmwscouts.org.uk
X-WR-CALDESC:Events for Greater Manchester West Scouts
REFRESH-INTERVAL;VALUE=DURATION:PT1H
X-Robots-Tag:noindex
X-PUBLISHED-TTL:PT1H
BEGIN:VTIMEZONE
TZID:UTC
BEGIN:STANDARD
TZOFFSETFROM:+0000
TZOFFSETTO:+0000
TZNAME:UTC
DTSTART:20240101T000000
END:STANDARD
END:VTIMEZONE
BEGIN:VEVENT
DTSTART;TZID=UTC:20251130T093000
DTEND;TZID=UTC:20251130T163000
DTSTAMP:20260419T131647
CREATED:20251108T132528Z
LAST-MODIFIED:20251108T132902Z
UID:1312-1764495000-1764520200@gmwscouts.org.uk
SUMMARY:First Response
DESCRIPTION:This learning opportunity is The Scouts First Response course which covers all the required content to validate your First Response module in My Learning.  \nThe course runs from 9.30am to 4.30pm and will include a mixture of practical activities and discussion. We will provide the resources and equipment required to complete this learning opportunity. We will also validate your module on My Learning after completion. \nPlease bring a packed lunch with you and a reusable hot drinks cup and water bottle. We will provide tea\, coffee and biscuits throughout the day and there is plenty of water on tap. \nThere are limited spaces available on this First Response course. Please book your space now to avoid missing out.  \nFAQs \n\nNot sure if you need to complete this learning? This learning needs to be completed by all Section Team volunteers\, Group Lead Volunteers\, and 14-24 Team Leaders. For more information about First Response and other Growing Roots learning for your role\, please click here.\nDoes this learning need to be renewed? Yes\, if your role requires the learning you must complete the course every three years.
URL:https://gmwscouts.org.uk/event/firstresponse-30112025/
LOCATION:5th Urmston Scout Group HQ\, Eeasbrook\, Urmston\, Greater Manchester\, M41 9JA\, United Kingdom
CATEGORIES:Volunteer Learning
ATTACH;FMTTYPE=image/png:https://gmwscouts.org.uk/wp-content/uploads/2025/05/Website-Images-11.png
ORGANIZER;CN="County Office":MAILTO:county.office@gmwscouts.org.uk
END:VEVENT
BEGIN:VEVENT
DTSTART;TZID=UTC:20250928T093000
DTEND;TZID=UTC:20250928T163000
DTSTAMP:20260419T131647
CREATED:20250511T210216Z
LAST-MODIFIED:20250815T112451Z
UID:847-1759051800-1759077000@gmwscouts.org.uk
SUMMARY:First Response
DESCRIPTION:This learning opportunity is The Scouts First Response course which covers all the required content to validate your First Response module in My Learning.  \nThe course runs from 9.30am to 4.30pm and will include a mixture of practical activities and discussion. We will provide the resources and equipment required to complete this learning opportunity. We will also validate your module on My Learning after completion. \nPlease bring a packed lunch with you and a reusable hot drinks cup and water bottle. We will provide tea\, coffee and biscuits throughout the day and there is plenty of water on tap. \nThere are limited spaces available on this First Response course. Please book your space now to avoid missing out.  \nFAQs \n\nNot sure if you need to complete this learning? This learning needs to be completed by all Section Team volunteers\, Group Lead Volunteers\, and 14-24 Team Leaders. For more information about First Response and other Growing Roots learning for your role\, please click here.\nDoes this learning need to be renewed? Yes\, if your role requires the learning you must complete the course every three years.
URL:https://gmwscouts.org.uk/event/firstresponse-28092025/
LOCATION:Bispham Hall Scout Estate\, Crank Road\, Wigan\, Greater Manchester\, WN5 7DT\, United Kingdom
CATEGORIES:Volunteer Learning
ATTACH;FMTTYPE=image/png:https://gmwscouts.org.uk/wp-content/uploads/2025/05/Website-Images-11.png
ORGANIZER;CN="County Office":MAILTO:county.office@gmwscouts.org.uk
END:VEVENT
BEGIN:VEVENT
DTSTART;TZID=UTC:20250927T100000
DTEND;TZID=UTC:20250927T130000
DTSTAMP:20260419T131647
CREATED:20250811T224819Z
LAST-MODIFIED:20250812T013601Z
UID:1054-1758967200-1758978000@gmwscouts.org.uk
SUMMARY:Woodbage Learning - Modules 8\, 9 and 13
DESCRIPTION:This learning opportunity is for volunteers who are working towards their optional Woodbadge and this opportunity provides you with knowledge required for Module 8 Skills of Leadership\, Module 9 Working with Adults\, and Module 13 Growing the Section. \nThe course runs from 10.00am to 1.00pm and will include a mixture of practical activities and discussion. We will provide the resources and equipment required to complete this learning opportunity. You will need to validate this learning following the course with your Learning Assessor\, if you are unsure who this is\, please contact your District Lead Volunteer or Volunteering Development Team Leader. \nPlease bring with you a reusable hot drinks cup and water bottle. We will provide tea\, coffee and biscuits throughout the day and there is plenty of water on tap. \nThere are limited spaces available on this learning opportunity. Please book your space now to avoid missing out. 
URL:https://gmwscouts.org.uk/event/woodbadgelearningsept2025/
LOCATION:Bispham Hall Scout Estate\, Crank Road\, Wigan\, Greater Manchester\, WN5 7DT\, United Kingdom
CATEGORIES:Volunteer Learning
ATTACH;FMTTYPE=image/png:https://gmwscouts.org.uk/wp-content/uploads/2025/08/Website-Images-17.png
ORGANIZER;CN="County Office":MAILTO:county.office@gmwscouts.org.uk
END:VEVENT
BEGIN:VEVENT
DTSTART;TZID=UTC:20250927T093000
DTEND;TZID=UTC:20250928T163000
DTSTAMP:20260419T131647
CREATED:20250811T222450Z
LAST-MODIFIED:20250811T222540Z
UID:1039-1758965400-1759077000@gmwscouts.org.uk
SUMMARY:Skills for Residential Experiences - Campsite (Nights Away Course)
DESCRIPTION:This learning opportunity gives volunteers the knowledge they need to go away and complete their Nights Away Permit. The course covers the administration related to nights away and the practical elements of running a nights away experience. This course is perfect for those wanting to undertake their Campsite Nights Away Permit\, or someone wanting to do an Indoor Nights Away Permit but brush up on some practical skills too. \nThe course runs from 9.30am to 4.30pm on both days. We will provide the resources and equipment required to complete this learning opportunity. There is the option to stay over\, please find below more information about accommodation or you can travel both days from home. \nPlease bring a packed lunch with you and a reusable hot drinks cup and water bottle. We will provide tea\, coffee and biscuits throughout the day and there is plenty of water on tap. A large amount of the course will be outdoors\, so please dress appropriately. \nThere are limited spaces available on this workshop. Please book your space now to avoid missing out. \nHere are some useful links relating to this learning opportunity: \n\nThe Nights Away Permit Scheme\n\nFor volunteers completing learning over both days during this weekend\, accommodation is available (indoor or camping\, depending on availability). We can provide you with an evening meal on the Saturday\, and breakfast and lunch on the Sunday if you are staying over. Please bring a packed lunch for the Saturday. If you would like accommodation/catering\, please contact us after you have booked your space on the workshop by emailing\, county.office@gmwscouts.org.uk. Please include in the email\, your full name and any dietary requirements.
URL:https://gmwscouts.org.uk/event/residentialskillscampsitesept2025/
LOCATION:Bispham Hall Scout Estate\, Crank Road\, Wigan\, Greater Manchester\, WN5 7DT\, United Kingdom
CATEGORIES:Volunteer Learning
ATTACH;FMTTYPE=image/png:https://gmwscouts.org.uk/wp-content/uploads/2025/08/Website-Images-16.png
ORGANIZER;CN="County Office":MAILTO:county.office@gmwscouts.org.uk
END:VEVENT
BEGIN:VEVENT
DTSTART;TZID=UTC:20250927T093000
DTEND;TZID=UTC:20250927T163000
DTSTAMP:20260419T131647
CREATED:20250811T220419Z
LAST-MODIFIED:20250811T222352Z
UID:1012-1758965400-1758990600@gmwscouts.org.uk
SUMMARY:Skills for Residential Experiences - Indoor (Nights Away Course)
DESCRIPTION:This learning opportunity gives volunteers the knowledge they need to go away and complete their Nights Away Permit. This part of the course covers the administration related to nights away\, and therefore is perfect for those wanting to do an Indoor Permit. If you are also looking to learn some practical skills\, please take a look at our two-day Outdoor course.  \nThe course runs from 9.30am to 4.30pm. We will provide the resources and equipment required to complete this learning opportunity. \nPlease bring a packed lunch with you and a reusable hot drinks cup and water bottle. We will provide tea\, coffee and biscuits throughout the day and there is plenty of water on tap. Some of the course will be outdoors\, so please dress appropriately. \nThere are limited spaces available on this workshop. Please book your space now to avoid missing out. \nHere are some useful links relating to this learning opportunity: \n\nThe Nights Away Permit Scheme\n\nFor volunteers completing learning over both days during this weekend\, accommodation is available (indoor or camping\, depending on availability). We can provide you with an evening meal on the Saturday\, and breakfast and lunch on the Sunday if you are staying over. Please bring a packed lunch for the Saturday. If you would like accommodation/catering\, please contact us after you have booked your space on the workshop by emailing\, county.office@gmwscouts.org.uk. Please include in the email\, your full name and any dietary requirements.
URL:https://gmwscouts.org.uk/event/residentialskillsindoorsept2025/
LOCATION:Bispham Hall Scout Estate\, Crank Road\, Wigan\, Greater Manchester\, WN5 7DT\, United Kingdom
CATEGORIES:Volunteer Learning
ATTACH;FMTTYPE=image/png:https://gmwscouts.org.uk/wp-content/uploads/2025/08/Website-Images-16.png
ORGANIZER;CN="County Office":MAILTO:county.office@gmwscouts.org.uk
END:VEVENT
BEGIN:VEVENT
DTSTART;TZID=UTC:20250927T093000
DTEND;TZID=UTC:20250927T163000
DTSTAMP:20260419T131647
CREATED:20250511T203934Z
LAST-MODIFIED:20250511T205732Z
UID:842-1758965400-1758990600@gmwscouts.org.uk
SUMMARY:First Response
DESCRIPTION:This learning opportunity is The Scouts First Response course which covers all the required content to validate your First Response module in My Learning.  \nThe course runs from 9.30am to 4.30pm and will include a mixture of practical activities and discussion. We will provide the resources and equipment required to complete this learning opportunity. We will also validate your module on My Learning after completion. \nPlease bring a packed lunch with you and a reusable hot drinks cup and water bottle. We will provide tea\, coffee and biscuits throughout the day and there is plenty of water on tap. \nThere are limited spaces available on this First Response course. Please book your space now to avoid missing out.  \nFAQs \n\nNot sure if you need to complete this learning? This learning needs to be completed by all Section Team volunteers\, Group Lead Volunteers\, and 14-24 Team Leaders. For more information about First Response and other Growing Roots learning for your role\, please click here.\nDoes this learning need to be renewed? Yes\, if your role requires the learning you must complete the course every three years.
URL:https://gmwscouts.org.uk/event/firstresponse-27092025/
LOCATION:Bispham Hall Scout Estate\, Crank Road\, Wigan\, Greater Manchester\, WN5 7DT\, United Kingdom
CATEGORIES:Volunteer Learning
ATTACH;FMTTYPE=image/png:https://gmwscouts.org.uk/wp-content/uploads/2025/05/Website-Images-11.png
ORGANIZER;CN="County Office":MAILTO:county.office@gmwscouts.org.uk
END:VEVENT
BEGIN:VEVENT
DTSTART;TZID=UTC:20250629T133000
DTEND;TZID=UTC:20250629T153000
DTSTAMP:20260419T131647
CREATED:20250505T111512Z
LAST-MODIFIED:20250505T172603Z
UID:665-1751203800-1751211000@gmwscouts.org.uk
SUMMARY:Practical Activities to promote Positive Behaviour
DESCRIPTION:This workshop gives volunteers the opportunity to learn how to deploy some very quick and low-plan activities to support you\, your young people and their programme.  Start a tool kit of engaging ideas to use in a day-to-day basis with your own section.  Suited to both indoors and outdoors.  Leave with positive behaviour management ideas too. \n\nThe course runs from 1.30pm to 3.30pm. We will provide the resources and equipment required to complete this learning opportunity. \nPlease bring a packed lunch with you and a reusable hot drinks cup and water bottle. We will provide tea\, coffee and biscuits throughout the day and there is plenty of water on tap. \nThere are limited spaces available on this workshop. Please book your space now to avoid missing out. \nFor volunteers completing learning over both days during this weekend\, camping is available. We can provide you with an evening meal on the Saturday\, and breakfast and lunch on the Sunday if you are staying over. Please bring a packed lunch for the Saturday. If you would like accommodation/catering\, please contact us after you have booked your space on the workshop by emailing\, county.office@gmwscouts.org.uk. Please include in the email\, your full name and any dietary requirements.
URL:https://gmwscouts.org.uk/event/practicalskillsjune2025-behaviour/
LOCATION:Dunham Park Scout Camp\, Farm Walk\, Altrincham\, Greater Manchester\, WA14 4SP\, United Kingdom
CATEGORIES:Volunteer Learning
ATTACH;FMTTYPE=image/png:https://gmwscouts.org.uk/wp-content/uploads/2025/05/Website-Images-10.png
ORGANIZER;CN="County Office":MAILTO:county.office@gmwscouts.org.uk
END:VEVENT
BEGIN:VEVENT
DTSTART;TZID=UTC:20250629T093000
DTEND;TZID=UTC:20250629T163000
DTSTAMP:20260419T131647
CREATED:20250511T203809Z
LAST-MODIFIED:20250511T203818Z
UID:839-1751189400-1751214600@gmwscouts.org.uk
SUMMARY:First Response
DESCRIPTION:This learning opportunity is The Scouts First Response course which covers all the required content to validate your First Response module in My Learning.  \nThe course runs from 9.30am to 4.30pm and will include a mixture of practical activities and discussion. We will provide the resources and equipment required to complete this learning opportunity. We will also validate your module on My Learning after completion. \nPlease bring a packed lunch with you and a reusable hot drinks cup and water bottle. We will provide tea\, coffee and biscuits throughout the day and there is plenty of water on tap. \nThere are limited spaces available on this First Response course. Please book your space now to avoid missing out.  \nFAQs \n\nNot sure if you need to complete this learning? This learning needs to be completed by all Section Team volunteers\, Group Lead Volunteers\, and 14-24 Team Leaders. For more information about First Response and other Growing Roots learning for your role\, please click here.\nDoes this learning need to be renewed? Yes\, if your role requires the learning you must complete the course every three years.
URL:https://gmwscouts.org.uk/event/firstresponse-29062025/
LOCATION:Dunham Park Scout Camp\, Farm Walk\, Altrincham\, Greater Manchester\, WA14 4SP\, United Kingdom
CATEGORIES:Volunteer Learning
ATTACH;FMTTYPE=image/png:https://gmwscouts.org.uk/wp-content/uploads/2025/05/Website-Images-11.png
ORGANIZER;CN="County Office":MAILTO:county.office@gmwscouts.org.uk
END:VEVENT
BEGIN:VEVENT
DTSTART;TZID=UTC:20250629T093000
DTEND;TZID=UTC:20250629T123000
DTSTAMP:20260419T131647
CREATED:20250505T111152Z
LAST-MODIFIED:20250505T172722Z
UID:660-1751189400-1751200200@gmwscouts.org.uk
SUMMARY:Practical Skills Workshop - Knife\, Axe and Saw
DESCRIPTION:This workshop gives volunteers the opportunity to learn how to confidently and safely teach young people skills with knives\, axes and saws. Make a gadget to take away and demonstrate your skills. \nThe course runs from 9.30am to 12.30pm. We will provide the resources and equipment required to complete this learning opportunity. \nPlease bring a packed lunch with you and a reusable hot drinks cup and water bottle. We will provide tea\, coffee and biscuits throughout the day and there is plenty of water on tap. \nThere are limited spaces available on this workshop. Please book your space now to avoid missing out. \nFor volunteers completing learning over both days during this weekend\, camping is available. We can provide you with an evening meal on the Saturday\, and breakfast and lunch on the Sunday if you are staying over. Please bring a packed lunch for the Saturday. If you would like accommodation/catering\, please contact us after you have booked your space on the workshop by emailing\, county.office@gmwscouts.org.uk. Please include in the email\, your full name and any dietary requirements.
URL:https://gmwscouts.org.uk/event/practicalskillsjune2025-knife/
LOCATION:Dunham Park Scout Camp\, Farm Walk\, Altrincham\, Greater Manchester\, WA14 4SP\, United Kingdom
CATEGORIES:Volunteer Learning
ATTACH;FMTTYPE=image/png:https://gmwscouts.org.uk/wp-content/uploads/2025/05/Website-Images-10.png
ORGANIZER;CN="County Office":MAILTO:county.office@gmwscouts.org.uk
END:VEVENT
BEGIN:VEVENT
DTSTART;TZID=UTC:20250628T140000
DTEND;TZID=UTC:20250628T163000
DTSTAMP:20260419T131647
CREATED:20250505T110529Z
LAST-MODIFIED:20250623T202502Z
UID:658-1751119200-1751128200@gmwscouts.org.uk
SUMMARY:Practical Skills Workshop - Knots and Ropework
DESCRIPTION:  \nAccommodation (Optional)This workshop gives volunteers the opportunity to learn a variety of simple and useful knots that not only you can use but also teach your young people how to use.  Make a woggle to demonstrate your skills and enjoy some pioneering skills too. \n\nThe course runs from 2.00pm to 4.30pm. We will provide the resources and equipment required to complete this learning opportunity. \nPlease bring a packed lunch with you and a reusable hot drinks cup and water bottle. We will provide tea\, coffee and biscuits throughout the day and there is plenty of water on tap. \nThere are limited spaces available on this workshop. Please book your space now to avoid missing out. \nFor volunteers completing learning over both days during this weekend\, camping is available. We can provide you with an evening meal on the Saturday\, and breakfast and lunch on the Sunday if you are staying over. Please bring a packed lunch for the Saturday. If you would like accommodation/catering\, please contact us after you have booked your space on the workshop by emailing\, county.office@gmwscouts.org.uk. Please include in the email\, your full name and any dietary requirements.
URL:https://gmwscouts.org.uk/event/practicalskillsjune2025-knots/
LOCATION:Dunham Park Scout Camp\, Farm Walk\, Altrincham\, Greater Manchester\, WA14 4SP\, United Kingdom
CATEGORIES:Volunteer Learning
ATTACH;FMTTYPE=image/png:https://gmwscouts.org.uk/wp-content/uploads/2025/05/Website-Images-10.png
ORGANIZER;CN="County Office":MAILTO:county.office@gmwscouts.org.uk
END:VEVENT
BEGIN:VEVENT
DTSTART;TZID=UTC:20250628T133000
DTEND;TZID=UTC:20250628T163000
DTSTAMP:20260419T131647
CREATED:20250505T105840Z
LAST-MODIFIED:20250505T172542Z
UID:654-1751117400-1751128200@gmwscouts.org.uk
SUMMARY:Practical Skills Workshop - Backwoods Cooking
DESCRIPTION:This workshop gives volunteers the opportunity to learn a variety of different recipes to easily engage and progress your young people.  Learn the skills to cook on an open fire using only nature’s resources as well as more tradition methods using tin foil and forks. \nThe course runs from 1.30pm to 4.30pm. We will provide the resources and equipment required to complete this learning opportunity. \nPlease bring a packed lunch with you and a reusable hot drinks cup and water bottle. We will provide tea\, coffee and biscuits throughout the day and there is plenty of water on tap. \nThere are limited spaces available on this workshop. Please book your space now to avoid missing out. \nFor volunteers completing learning over both days during this weekend\, camping is available. We can provide you with an evening meal on the Saturday\, and breakfast and lunch on the Sunday if you are staying over. Please bring a packed lunch for the Saturday. If you would like accommodation/catering\, please contact us after you have booked your space on the workshop by emailing\, county.office@gmwscouts.org.uk. Please include in the email\, your full name and any dietary requirements. \n 
URL:https://gmwscouts.org.uk/event/practicalskillsjune2025-backwoods/
LOCATION:Dunham Park Scout Camp\, Farm Walk\, Altrincham\, Greater Manchester\, WA14 4SP\, United Kingdom
CATEGORIES:Volunteer Learning
ATTACH;FMTTYPE=image/png:https://gmwscouts.org.uk/wp-content/uploads/2025/05/Website-Images-10.png
ORGANIZER;CN="County Office":MAILTO:county.office@gmwscouts.org.uk
END:VEVENT
BEGIN:VEVENT
DTSTART;TZID=UTC:20250628T093000
DTEND;TZID=UTC:20250628T163000
DTSTAMP:20260419T131647
CREATED:20250511T203422Z
LAST-MODIFIED:20250511T212047Z
UID:833-1751103000-1751128200@gmwscouts.org.uk
SUMMARY:First Response
DESCRIPTION:This learning opportunity is The Scouts First Response course which covers all the required content to validate your First Response module in My Learning.  \nThe course runs from 9.30am to 4.30pm and will include a mixture of practical activities and discussion. We will provide the resources and equipment required to complete this learning opportunity. We will also validate your module on My Learning after completion. \nPlease bring a packed lunch with you and a reusable hot drinks cup and water bottle. We will provide tea\, coffee and biscuits throughout the day and there is plenty of water on tap. \nThere are limited spaces available on this First Response course. Please book your space now to avoid missing out.  \nFAQs \n\nNot sure if you need to complete this learning? This learning needs to be completed by all Section Team volunteers\, Group Lead Volunteers\, and 14-24 Team Leaders. For more information about First Response and other Growing Roots learning for your role\, please click here.\nDoes this learning need to be renewed? Yes\, if your role requires the learning you must complete the course every three years.
URL:https://gmwscouts.org.uk/event/firstresponse-28062025/
LOCATION:Dunham Park Scout Camp\, Farm Walk\, Altrincham\, Greater Manchester\, WA14 4SP\, United Kingdom
CATEGORIES:Volunteer Learning
ATTACH;FMTTYPE=image/png:https://gmwscouts.org.uk/wp-content/uploads/2025/05/Website-Images-11.png
ORGANIZER;CN="County Office":MAILTO:county.office@gmwscouts.org.uk
END:VEVENT
BEGIN:VEVENT
DTSTART;TZID=UTC:20250628T093000
DTEND;TZID=UTC:20250628T123000
DTSTAMP:20260419T131647
CREATED:20250505T105306Z
LAST-MODIFIED:20250505T172557Z
UID:642-1751103000-1751113800@gmwscouts.org.uk
SUMMARY:Practical Skills Workshop - Firelighting
DESCRIPTION:This workshop gives volunteers the opportunity to learn a variety different methods to light fires\, how to fuel them\, where to find and access your resources.  Learning how to teach your young people to light and manage their own fires in a variety of different settings. \nThe course runs from 9.30am to 12.30pm. We will provide the resources and equipment required to complete this learning opportunity. \nPlease bring a packed lunch with you and a reusable hot drinks cup and water bottle. We will provide tea\, coffee and biscuits throughout the day and there is plenty of water on tap. \nThere are limited spaces available on this workshop. Please book your space now to avoid missing out. \nFor volunteers completing learning over both days during this weekend\, camping is available. We can provide you with an evening meal on the Saturday\, and breakfast and lunch on the Sunday if you are staying over. Please bring a packed lunch for the Saturday. If you would like accommodation/catering\, please contact us after you have booked your space on the workshop by emailing\, county.office@gmwscouts.org.uk. Please include in the email\, your full name and any dietary requirements.
URL:https://gmwscouts.org.uk/event/practicalskillsjune2025-firelighting/
LOCATION:Dunham Park Scout Camp\, Farm Walk\, Altrincham\, Greater Manchester\, WA14 4SP\, United Kingdom
CATEGORIES:Volunteer Learning
ATTACH;FMTTYPE=image/png:https://gmwscouts.org.uk/wp-content/uploads/2025/05/Website-Images-10.png
ORGANIZER;CN="County Office":MAILTO:county.office@gmwscouts.org.uk
END:VEVENT
BEGIN:VEVENT
DTSTART;TZID=UTC:20250627T193000
DTEND;TZID=UTC:20250627T213000
DTSTAMP:20260419T131647
CREATED:20250526T052529Z
LAST-MODIFIED:20250526T052700Z
UID:897-1751052600-1751059800@gmwscouts.org.uk
SUMMARY:Online Learning Drop In
DESCRIPTION:We understand not everyone is able to access online learning and the new membership system in the same way. This drop in provides volunteers with the opportunity to drop in and be supported to complete their learning with a member of the Volunteering Development Team. \nThere is no need to register\, please drop in with your laptop or tablet and we can support you with your learning. If you don’t have access to a laptop or tablet\, please get in touch by emailing\, county.office@gmwscouts.org.uk and we will look to have a device available for you to complete your learning with our support.
URL:https://gmwscouts.org.uk/event/onlinelearning-27092025/
LOCATION:Dunham Park Scout Camp\, Farm Walk\, Altrincham\, Greater Manchester\, WA14 4SP\, United Kingdom
CATEGORIES:Volunteer Learning
ATTACH;FMTTYPE=image/png:https://gmwscouts.org.uk/wp-content/uploads/2025/05/Website-Images-12.png
ORGANIZER;CN="County Office":MAILTO:county.office@gmwscouts.org.uk
END:VEVENT
END:VCALENDAR