BEGIN:VCALENDAR
VERSION:2.0
PRODID:-//Greater Manchester West Scouts - ECPv6.15.20//NONSGML v1.0//EN
CALSCALE:GREGORIAN
METHOD:PUBLISH
X-WR-CALNAME:Greater Manchester West Scouts
X-ORIGINAL-URL:https://gmwscouts.org.uk
X-WR-CALDESC:Events for Greater Manchester West Scouts
REFRESH-INTERVAL;VALUE=DURATION:PT1H
X-Robots-Tag:noindex
X-PUBLISHED-TTL:PT1H
BEGIN:VTIMEZONE
TZID:UTC
BEGIN:STANDARD
TZOFFSETFROM:+0000
TZOFFSETTO:+0000
TZNAME:UTC
DTSTART:20240101T000000
END:STANDARD
END:VTIMEZONE
BEGIN:VEVENT
DTSTART;TZID=UTC:20250627T193000
DTEND;TZID=UTC:20250627T213000
DTSTAMP:20260422T224653
CREATED:20250526T052529Z
LAST-MODIFIED:20250526T052700Z
UID:897-1751052600-1751059800@gmwscouts.org.uk
SUMMARY:Online Learning Drop In
DESCRIPTION:We understand not everyone is able to access online learning and the new membership system in the same way. This drop in provides volunteers with the opportunity to drop in and be supported to complete their learning with a member of the Volunteering Development Team. \nThere is no need to register\, please drop in with your laptop or tablet and we can support you with your learning. If you don’t have access to a laptop or tablet\, please get in touch by emailing\, county.office@gmwscouts.org.uk and we will look to have a device available for you to complete your learning with our support.
URL:https://gmwscouts.org.uk/event/onlinelearning-27092025/
LOCATION:Dunham Park Scout Camp\, Farm Walk\, Altrincham\, Greater Manchester\, WA14 4SP\, United Kingdom
CATEGORIES:Volunteer Learning
ATTACH;FMTTYPE=image/png:https://gmwscouts.org.uk/wp-content/uploads/2025/05/Website-Images-12.png
ORGANIZER;CN="County Office":MAILTO:county.office@gmwscouts.org.uk
END:VEVENT
BEGIN:VEVENT
DTSTART;TZID=UTC:20250502T180000
DTEND;TZID=UTC:20250505T130000
DTSTAMP:20260422T224653
CREATED:20250401T222554Z
LAST-MODIFIED:20250401T222707Z
UID:567-1746208800-1746450000@gmwscouts.org.uk
SUMMARY:Goodwood Weekender 2025
DESCRIPTION:Goodwood Weekender is an annual three night activity camp for Explorers this year held over the early May bank holiday weekend Friday 2nd to Monday 5th May 2025. Tickets are only £45 for the full weekend. (Leaders only pay £20). There’s even full catering available on site at the reasonably priced Goodwood Grill\, so you won’t even need to cook! \nWe also welcome Scouts on Saturday 3rd May to take part in activities and fun on a day pass. The day pass is priced at £19. \nFor more info and bookings please click here.
URL:https://gmwscouts.org.uk/event/goodwood-weekender-2025/
CATEGORIES:Programme
ATTACH;FMTTYPE=image/png:https://gmwscouts.org.uk/wp-content/uploads/2025/04/Website-Images-7.png
ORGANIZER;CN="Goodwood Weekender Team":MAILTO:info@goodwoodweekender.org.uk
END:VEVENT
END:VCALENDAR