BEGIN:VCALENDAR
VERSION:2.0
PRODID:-//Greater Manchester West Scouts - ECPv6.15.20//NONSGML v1.0//EN
CALSCALE:GREGORIAN
METHOD:PUBLISH
X-ORIGINAL-URL:https://gmwscouts.org.uk
X-WR-CALDESC:Events for Greater Manchester West Scouts
REFRESH-INTERVAL;VALUE=DURATION:PT1H
X-Robots-Tag:noindex
X-PUBLISHED-TTL:PT1H
BEGIN:VTIMEZONE
TZID:UTC
BEGIN:STANDARD
TZOFFSETFROM:+0000
TZOFFSETTO:+0000
TZNAME:UTC
DTSTART:20250101T000000
END:STANDARD
END:VTIMEZONE
BEGIN:VEVENT
DTSTART;VALUE=DATE:20260117
DTEND;VALUE=DATE:20260118
DTSTAMP:20260422T182209
CREATED:20250914T120928Z
LAST-MODIFIED:20251109T210043Z
UID:1210-1768608000-1768694399@gmwscouts.org.uk
SUMMARY:Achieve 2026 - Young People
DESCRIPTION:We’re excited to launch our new-format event\, ‘Achieve’\, celebrating young people from across Greater Manchester West who’ve earned the Top Award in their section from 1st May 2023 to 31st October 2025\, \nTop Awards include: Chief Scout Acorn\, Bronze\, Silver\, Gold\, Platinum and Diamond Award\, Young Leader Award\, Explorer Belt and Scouts of the World Award \n📅 Date: Saturday 17th January 2026\n📍 Venue: CorpAcq Stadium \nEach young person will be invited to attend with a parent or carer. Please note that Section Teams are not required to attend. \nThe invite certificate with the registration link will be sent to Section Team Leaders and Members in the November 2025 Member Update. \nIt’s the parent/carer’s responsibility to register their child for the event. \nEvery young person attending will receive a certificate of achievement and a commemorative woggle\, presented by one of our special guests. \n🗓️ Registration closes on Sunday 30th November 2025 at 8pm.
URL:https://gmwscouts.org.uk/event/achieve2026/
CATEGORIES:Programme
ATTACH;FMTTYPE=image/jpeg:https://gmwscouts.org.uk/wp-content/uploads/2025/09/Website-Images-9.jpg
END:VEVENT
BEGIN:VEVENT
DTSTART;VALUE=DATE:20260117
DTEND;VALUE=DATE:20260118
DTSTAMP:20260422T182209
CREATED:20250914T121402Z
LAST-MODIFIED:20251109T205705Z
UID:1212-1768608000-1768694399@gmwscouts.org.uk
SUMMARY:Celebrate 2026 - Volunteers and King's Scouts
DESCRIPTION:This event is to recognise adult volunteers from across Greater Manchester West who’ve been recongised for thier service with a Silver Acorn\, Bar to the Silver Acorn or Silver Wolf. We also take this opportunity to recognise adult volunteers who been awarded National Honours. \nWe are also recognising young people who’ve achieved their King’s Scout Award\, the highest award a youth member can achieve in Scouts. \nBy invitation only – more details to follow.
URL:https://gmwscouts.org.uk/event/celebrate2026/
CATEGORIES:Programme
ATTACH;FMTTYPE=image/jpeg:https://gmwscouts.org.uk/wp-content/uploads/2025/09/Website-Images-1.jpg
END:VEVENT
END:VCALENDAR